BEGIN:VCALENDAR
VERSION:2.0
PRODID:-//Investigación Estudiantil - ECPv5.3.1//NONSGML v1.0//EN
CALSCALE:GREGORIAN
METHOD:PUBLISH
X-WR-CALNAME:Investigación Estudiantil
X-ORIGINAL-URL:https://www.estudiantes.csic.edu.uy
X-WR-CALDESC:Eventos para Investigación Estudiantil
BEGIN:VTIMEZONE
TZID:America/Sao_Paulo
BEGIN:STANDARD
TZOFFSETFROM:-0200
TZOFFSETTO:-0300
TZNAME:-03
DTSTART:20170219T020000
END:STANDARD
BEGIN:DAYLIGHT
TZOFFSETFROM:-0300
TZOFFSETTO:-0200
TZNAME:-02
DTSTART:20171015T030000
END:DAYLIGHT
END:VTIMEZONE
BEGIN:VEVENT
DTSTART;TZID=America/Sao_Paulo:20170426T183000
DTEND;TZID=America/Sao_Paulo:20170426T200000
DTSTAMP:20260421T073648
CREATED:20170407T182151Z
LAST-MODIFIED:20170407T182151Z
UID:14213-1493231400-1493236800@www.estudiantes.csic.edu.uy
SUMMARY:Charla en Economía !
DESCRIPTION:
URL:https://www.estudiantes.csic.edu.uy/event/charla-en-economia/
LOCATION:Facultad de ciencias Económicas y de Administración\, Gonzalo Ramirez1926\, Montevideo\, Montevideo\, 11200\, Uruguay
CATEGORIES:Charlas informativas
ATTACH;FMTTYPE=image/png:https://www.estudiantes.csic.edu.uy/wp-content/uploads/2017/04/logo-fcea.png
ORGANIZER;CN="Alicia%20Assandri":MAILTO:csic@fagro.edu.uy
END:VEVENT
END:VCALENDAR