BEGIN:VCALENDAR
VERSION:2.0
PRODID:-//Investigación Estudiantil - ECPv5.3.1//NONSGML v1.0//EN
CALSCALE:GREGORIAN
METHOD:PUBLISH
X-WR-CALNAME:Investigación Estudiantil
X-ORIGINAL-URL:https://www.estudiantes.csic.edu.uy
X-WR-CALDESC:Eventos para Investigación Estudiantil
BEGIN:VTIMEZONE
TZID:America/Sao_Paulo
BEGIN:STANDARD
TZOFFSETFROM:-0200
TZOFFSETTO:-0300
TZNAME:-03
DTSTART:20170219T020000
END:STANDARD
BEGIN:DAYLIGHT
TZOFFSETFROM:-0300
TZOFFSETTO:-0200
TZNAME:-02
DTSTART:20171015T030000
END:DAYLIGHT
END:VTIMEZONE
BEGIN:VEVENT
DTSTART;TZID=America/Sao_Paulo:20170221T140000
DTEND;TZID=America/Sao_Paulo:20170221T150000
DTSTAMP:20260421T073650
CREATED:20170209T020033Z
LAST-MODIFIED:20170211T234514Z
UID:14084-1487685600-1487689200@www.estudiantes.csic.edu.uy
SUMMARY:Charla en el CURE Maldonado !
DESCRIPTION:
URL:https://www.estudiantes.csic.edu.uy/event/charla-en-el-cure-maldonado-2/
LOCATION:Centro Universitario de la Región Este\, Maldonado\, Tacuarembó entre Av. Artigas y Aparicio Saravia\, Maldonado\, Maldonado\, 20000\, Uruguay
CATEGORIES:Charlas informativas
ATTACH;FMTTYPE=image/png:https://www.estudiantes.csic.edu.uy/wp-content/uploads/2017/02/logo-cure.png
ORGANIZER;CN="Fabiana%20Guadalupe":MAILTO:csic@cure.edu.uy
END:VEVENT
END:VCALENDAR