BEGIN:VCALENDAR
VERSION:2.0
PRODID:-//Investigación Estudiantil - ECPv5.3.1//NONSGML v1.0//EN
CALSCALE:GREGORIAN
METHOD:PUBLISH
X-WR-CALNAME:Investigación Estudiantil
X-ORIGINAL-URL:https://www.estudiantes.csic.edu.uy
X-WR-CALDESC:Eventos para Investigación Estudiantil
BEGIN:VTIMEZONE
TZID:America/Sao_Paulo
BEGIN:STANDARD
TZOFFSETFROM:-0200
TZOFFSETTO:-0300
TZNAME:-03
DTSTART:20170219T020000
END:STANDARD
BEGIN:DAYLIGHT
TZOFFSETFROM:-0300
TZOFFSETTO:-0200
TZNAME:-02
DTSTART:20171015T030000
END:DAYLIGHT
END:VTIMEZONE
BEGIN:VEVENT
DTSTART;TZID=America/Sao_Paulo:20170215T120000
DTEND;TZID=America/Sao_Paulo:20170215T130000
DTSTAMP:20260421T090605
CREATED:20170209T020237Z
LAST-MODIFIED:20170209T020237Z
UID:14086-1487160000-1487163600@www.estudiantes.csic.edu.uy
SUMMARY:Charla en el CURE Rocha !
DESCRIPTION:
URL:https://www.estudiantes.csic.edu.uy/event/charla-en-el-cure-rocha/
LOCATION:Centro Universitario de la Región Este – Rocha\, Ruta nacional Nº9 intersección con ruta Nº15\, Rocha\, Rocha\, Uruguay
CATEGORIES:Charlas informativas
ATTACH;FMTTYPE=image/png:https://www.estudiantes.csic.edu.uy/wp-content/uploads/2017/02/logo-cure.png
ORGANIZER;CN="Fabiana%20Guadalupe":MAILTO:csic@cure.edu.uy
END:VEVENT
END:VCALENDAR