BEGIN:VCALENDAR
VERSION:2.0
PRODID:-//Investigación Estudiantil - ECPv5.3.1//NONSGML v1.0//EN
CALSCALE:GREGORIAN
METHOD:PUBLISH
X-WR-CALNAME:Investigación Estudiantil
X-ORIGINAL-URL:https://www.estudiantes.csic.edu.uy
X-WR-CALDESC:Eventos para Investigación Estudiantil
BEGIN:VTIMEZONE
TZID:America/Sao_Paulo
BEGIN:STANDARD
TZOFFSETFROM:-0200
TZOFFSETTO:-0300
TZNAME:-03
DTSTART:20170219T020000
END:STANDARD
BEGIN:DAYLIGHT
TZOFFSETFROM:-0300
TZOFFSETTO:-0200
TZNAME:-02
DTSTART:20171015T030000
END:DAYLIGHT
END:VTIMEZONE
BEGIN:VEVENT
DTSTART;TZID=America/Sao_Paulo:20170307T080000
DTEND;TZID=America/Sao_Paulo:20170307T140000
DTSTAMP:20260421T090448
CREATED:20170303T001706Z
LAST-MODIFIED:20170303T001706Z
UID:14139-1488873600-1488895200@www.estudiantes.csic.edu.uy
SUMMARY:Charla en el HC !
DESCRIPTION:
URL:https://www.estudiantes.csic.edu.uy/event/charla-en-el-hc-3/
LOCATION:Hospital de Clínicas\, Av Italia S/N\, Montevideo\, Montevideo\, 11600\, Uruguay
CATEGORIES:Charlas informativas
ATTACH;FMTTYPE=image/png:https://www.estudiantes.csic.edu.uy/wp-content/uploads/2017/03/logo-hc.png
ORGANIZER;CN="Alvaro%20Alvarez":MAILTO:coordinacioninvens@hc.edu.uy
END:VEVENT
END:VCALENDAR