BEGIN:VCALENDAR
VERSION:2.0
PRODID:-//Investigación Estudiantil - ECPv5.3.1//NONSGML v1.0//EN
CALSCALE:GREGORIAN
METHOD:PUBLISH
X-WR-CALNAME:Investigación Estudiantil
X-ORIGINAL-URL:https://www.estudiantes.csic.edu.uy
X-WR-CALDESC:Eventos para Investigación Estudiantil
BEGIN:VTIMEZONE
TZID:America/Sao_Paulo
BEGIN:STANDARD
TZOFFSETFROM:-0200
TZOFFSETTO:-0300
TZNAME:-03
DTSTART:20170219T020000
END:STANDARD
BEGIN:DAYLIGHT
TZOFFSETFROM:-0300
TZOFFSETTO:-0200
TZNAME:-02
DTSTART:20171015T030000
END:DAYLIGHT
END:VTIMEZONE
BEGIN:VEVENT
DTSTART;TZID=America/Sao_Paulo:20170403T180000
DTEND;TZID=America/Sao_Paulo:20170403T200000
DTSTAMP:20260421T073538
CREATED:20170321T164103Z
LAST-MODIFIED:20170321T164103Z
UID:14156-1491242400-1491249600@www.estudiantes.csic.edu.uy
SUMMARY:Charla en ENBA !
DESCRIPTION:
URL:https://www.estudiantes.csic.edu.uy/event/charla-en-enba/
LOCATION:Facultad de Artes\, Avda. 18 de Julio 1772\, Montevideo\, Montevideo\, 11200\, Uruguay
CATEGORIES:Charlas informativas
ATTACH;FMTTYPE=image/png:https://www.estudiantes.csic.edu.uy/wp-content/uploads/2017/03/logo-enba.png
ORGANIZER;CN="Rafael%20M%C3%A9ndez":MAILTO:secretaria@enba.edu.uy
END:VEVENT
END:VCALENDAR