BEGIN:VCALENDAR
VERSION:2.0
PRODID:-//Investigación Estudiantil - ECPv5.3.1//NONSGML v1.0//EN
CALSCALE:GREGORIAN
METHOD:PUBLISH
X-WR-CALNAME:Investigación Estudiantil
X-ORIGINAL-URL:https://www.estudiantes.csic.edu.uy
X-WR-CALDESC:Eventos para Investigación Estudiantil
BEGIN:VTIMEZONE
TZID:America/Sao_Paulo
BEGIN:STANDARD
TZOFFSETFROM:-0200
TZOFFSETTO:-0300
TZNAME:-03
DTSTART:20170219T020000
END:STANDARD
BEGIN:DAYLIGHT
TZOFFSETFROM:-0300
TZOFFSETTO:-0200
TZNAME:-02
DTSTART:20171015T030000
END:DAYLIGHT
END:VTIMEZONE
BEGIN:VEVENT
DTSTART;TZID=America/Sao_Paulo:20170314T100000
DTEND;TZID=America/Sao_Paulo:20170314T120000
DTSTAMP:20260421T073601
CREATED:20170207T133519Z
LAST-MODIFIED:20170207T133519Z
UID:14050-1489485600-1489492800@www.estudiantes.csic.edu.uy
SUMMARY:Charla en FCIEN !
DESCRIPTION:
URL:https://www.estudiantes.csic.edu.uy/event/charla-en-fcien/
LOCATION:Facultad de Ciencias\, Salón de Seminarios 1\, Iguá 4225 Esq. Mataojo\, Montevideo\, Montevideo\, 11400\, Uruguay
CATEGORIES:Charlas informativas
ATTACH;FMTTYPE=image/png:https://www.estudiantes.csic.edu.uy/wp-content/uploads/2017/02/logo-fcien.png
ORGANIZER;CN="Juan%20Cardozo":MAILTO:csic@fcien.edu.uy
END:VEVENT
END:VCALENDAR