BEGIN:VCALENDAR
VERSION:2.0
PRODID:-//Investigación Estudiantil - ECPv5.3.1//NONSGML v1.0//EN
CALSCALE:GREGORIAN
METHOD:PUBLISH
X-WR-CALNAME:Investigación Estudiantil
X-ORIGINAL-URL:https://www.estudiantes.csic.edu.uy
X-WR-CALDESC:Eventos para Investigación Estudiantil
BEGIN:VTIMEZONE
TZID:America/Sao_Paulo
BEGIN:STANDARD
TZOFFSETFROM:-0200
TZOFFSETTO:-0300
TZNAME:-03
DTSTART:20170219T020000
END:STANDARD
BEGIN:DAYLIGHT
TZOFFSETFROM:-0300
TZOFFSETTO:-0200
TZNAME:-02
DTSTART:20171015T030000
END:DAYLIGHT
END:VTIMEZONE
BEGIN:VEVENT
DTSTART;TZID=America/Sao_Paulo:20170315T011800
DTEND;TZID=America/Sao_Paulo:20170315T120000
DTSTAMP:20260421T073650
CREATED:20170207T023635Z
LAST-MODIFIED:20170207T023635Z
UID:14043-1489540680-1489579200@www.estudiantes.csic.edu.uy
SUMMARY:Charla en FQUIM !
DESCRIPTION:
URL:https://www.estudiantes.csic.edu.uy/event/charla-en-fquim-2/
LOCATION:Facultad de Química – Salón del Claustro\, Isidoro de María 1614\, Montevideo\, Montevideo\, 11200\, Uruguay
CATEGORIES:Charlas informativas
ATTACH;FMTTYPE=image/png:https://www.estudiantes.csic.edu.uy/wp-content/uploads/2017/02/logo-fquim.png
ORGANIZER;CN="Romina%20Keuchkerian":MAILTO:csic@fq.edu.uy
END:VEVENT
END:VCALENDAR