BEGIN:VCALENDAR
VERSION:2.0
PRODID:-//Investigación Estudiantil - ECPv5.3.1//NONSGML v1.0//EN
CALSCALE:GREGORIAN
METHOD:PUBLISH
X-WR-CALNAME:Investigación Estudiantil
X-ORIGINAL-URL:https://www.estudiantes.csic.edu.uy
X-WR-CALDESC:Eventos para Investigación Estudiantil
BEGIN:VTIMEZONE
TZID:America/Sao_Paulo
BEGIN:STANDARD
TZOFFSETFROM:-0200
TZOFFSETTO:-0300
TZNAME:-03
DTSTART:20170219T020000
END:STANDARD
BEGIN:DAYLIGHT
TZOFFSETFROM:-0300
TZOFFSETTO:-0200
TZNAME:-02
DTSTART:20171015T030000
END:DAYLIGHT
END:VTIMEZONE
BEGIN:VEVENT
DTSTART;TZID=America/Sao_Paulo:20170314T180000
DTEND;TZID=America/Sao_Paulo:20170314T190000
DTSTAMP:20260421T073620
CREATED:20170207T021741Z
LAST-MODIFIED:20170207T021741Z
UID:14026-1489514400-1489518000@www.estudiantes.csic.edu.uy
SUMMARY:Charla en la FIC !
DESCRIPTION:
URL:https://www.estudiantes.csic.edu.uy/event/charla-en-la-fic-2/
LOCATION:Facultad de Información y Comunicación\, San Salvador y Jackson\, Montevideo\, Montevideo\, 11200\, Uruguay
CATEGORIES:Charlas informativas
ATTACH;FMTTYPE=image/png:https://www.estudiantes.csic.edu.uy/wp-content/uploads/2017/02/fic-charla.png
ORGANIZER;CN="Victoria%20Cuadrado":MAILTO:victoria.cuadrado@fic.edu.uy
END:VEVENT
END:VCALENDAR