BEGIN:VCALENDAR
VERSION:2.0
PRODID:-//Investigación Estudiantil - ECPv5.3.1//NONSGML v1.0//EN
CALSCALE:GREGORIAN
METHOD:PUBLISH
X-WR-CALNAME:Investigación Estudiantil
X-ORIGINAL-URL:https://www.estudiantes.csic.edu.uy
X-WR-CALDESC:Eventos para Investigación Estudiantil
BEGIN:VTIMEZONE
TZID:America/Sao_Paulo
BEGIN:STANDARD
TZOFFSETFROM:-0200
TZOFFSETTO:-0300
TZNAME:-03
DTSTART:20170219T020000
END:STANDARD
BEGIN:DAYLIGHT
TZOFFSETFROM:-0300
TZOFFSETTO:-0200
TZNAME:-02
DTSTART:20171015T030000
END:DAYLIGHT
END:VTIMEZONE
BEGIN:VEVENT
DTSTART;TZID=America/Sao_Paulo:20170420T120000
DTEND;TZID=America/Sao_Paulo:20170420T130000
DTSTAMP:20260421T073605
CREATED:20170404T223039Z
LAST-MODIFIED:20170404T223039Z
UID:14199-1492689600-1492693200@www.estudiantes.csic.edu.uy
SUMMARY:Charla en Odontología !
DESCRIPTION:En el salón 13 de planta baja\, participaran estudiantes que contarán su experiencia en el Programa.
URL:https://www.estudiantes.csic.edu.uy/event/charla-en-odontologia/
LOCATION:Facultad de Odontología\, Las Heras 1925\, Montevideo\, Montevideo\, 11400\, Uruguay
CATEGORIES:Charlas informativas
ATTACH;FMTTYPE=image/png:https://www.estudiantes.csic.edu.uy/wp-content/uploads/2017/02/logo-fodon.png
ORGANIZER;CN="Alejandro%20Francia":MAILTO:csicodon@odon.edu.uy
END:VEVENT
END:VCALENDAR